BEGIN:VCALENDAR
VERSION:2.0
PRODID:-//Crypticon Seattle - ECPv6.15.0//NONSGML v1.0//EN
CALSCALE:GREGORIAN
METHOD:PUBLISH
X-WR-CALNAME:Crypticon Seattle
X-ORIGINAL-URL:https://crypticonseattle.com
X-WR-CALDESC:Events for Crypticon Seattle
REFRESH-INTERVAL;VALUE=DURATION:PT1H
X-Robots-Tag:noindex
X-PUBLISHED-TTL:PT1H
BEGIN:VTIMEZONE
TZID:America/Los_Angeles
BEGIN:DAYLIGHT
TZOFFSETFROM:-0800
TZOFFSETTO:-0700
TZNAME:PDT
DTSTART:20260308T100000
END:DAYLIGHT
BEGIN:STANDARD
TZOFFSETFROM:-0700
TZOFFSETTO:-0800
TZNAME:PST
DTSTART:20261101T090000
END:STANDARD
END:VTIMEZONE
BEGIN:VEVENT
DTSTART;VALUE=DATE:20260501
DTEND;VALUE=DATE:20260504
DTSTAMP:20260423T035240
CREATED:20220506T033612Z
LAST-MODIFIED:20251217T003926Z
UID:10000057-1777593600-1777852799@crypticonseattle.com
SUMMARY:Cast of Thousands Studio Demo by TIM PEIRSON
DESCRIPTION:Tim Peirson has been a makeup artist for over 40 years. His talents cover a wide range of skills from beauty work and body painting\, to special effects and character makeup. He received his training in FX and character work from Academy award winning makeup master\, Dick Smith and his beauty training from the John Casablancas Modeling Agency. Some of Tim’s credits include the movie “Frayed”\, season 3 of JourneyQuest\, season 5 of ZNation\, Pearl Jam’s video “Life Wasted”\, the film “Molder of Dreams”\, prosthetic work on Three Busy Debra’s season 2 and as a creature makeup artist on “The Birch” for Facebook watch.  He has worked with several notable celebrities including Neil Patrick Harris\, Susanna Thompson\, Ken Marshall and Robbie Benson. He was also the special makeup effects teacher for the Tint School of Makeup and Cosmetology in Seattle for 4 years. Tim is currently collaborating with RibFx creating new characters for their line of creatures and characters. He’s a national touring Character arts teacher\, and also a member of I.A.T.S.E 488 and can be found in Washington and Oregon holding makeup demos at various conventions or in his studio creating prosthetics for various film and T.V. Productions. Tim is a self-taught sculptor with a reputation for detail in his lifelike sculptures and owns Cast of Thousands Studio in Tacoma. \nhttps://www.instagram.com/castofthousandsstudio \nFri – 4pm -6:00pm at NW \nSat – 10:30am-1:00pm at NW \nSun – 10:30am – 1:30pm at NW \n  \n 
URL:https://crypticonseattle.com/the-event/tim-peirson/
LOCATION:Northwest Ballroom 3
CATEGORIES:Demo,Events,Friday,Saturday,Sunday
ATTACH;FMTTYPE=image/webp:https://crypticonseattle.com/wp-content/uploads/2024/01/TimPeirson-e1705970661633.webp
END:VEVENT
BEGIN:VEVENT
DTSTART;VALUE=DATE:20260501
DTEND;VALUE=DATE:20260504
DTSTAMP:20260423T035240
CREATED:20260219T003934Z
LAST-MODIFIED:20260415T045657Z
UID:10000333-1777593600-1777852799@crypticonseattle.com
SUMMARY:Franken-Figurines by Arreah
DESCRIPTION:  \nFor the anticipated\, terrifying sequel. Local Artist Arreah Bihary is back to provide the next generation of mad scientists the tools required to paint their own Franken-Figurines. Armed with a Resin 3D Printer\, this ghostly host will provide paint\, brushes\, and monstrous figurines to paint at your peril (pleasure). \nBring your imagination to life for $5\, and for $5 more for a total of $10\, enter your Franken-Figurine for furious judgement to win your choice between a large 3D printed figure\, or a commissioned piece of art from Arreah Bihary. \nConvention badge required for admission \nPreregister and pay go to https://www.contoursfx.com/crypticon \n$10 \nMay 1st 4 pm – 7 pm \nMay 2nd 10:30 am – 2:30pm \nMay 3rd 10:30 am – 12:30pm
URL:https://crypticonseattle.com/the-event/franken-figurines-by-arreah/
LOCATION:Cascade 7&8
CATEGORIES:Class,Saturday,Sunday
ATTACH;FMTTYPE=image/webp:https://crypticonseattle.com/wp-content/uploads/2026/02/arreah_frankenstein_makeup-5.webp
END:VEVENT
BEGIN:VEVENT
DTSTART;VALUE=DATE:20260501
DTEND;VALUE=DATE:20260504
DTSTAMP:20260423T035240
CREATED:20220330T233449Z
LAST-MODIFIED:20260303T061235Z
UID:10000039-1777593600-1777852799@crypticonseattle.com
SUMMARY:Biohazard Party
DESCRIPTION:Step back into the 90’s as Biohazard celebrates 30 years of convention parties! Come hang out and party with our themed drinks\, delicious jell-o shots\, and some of Seattle’s best DJs. We’re also hosting drinking games\, beer pong and 90’s trivia throughout the weekend.\nconvention badge required\n*OVER 21 ONLY* \nPARTY SCHEDULE \nFriday – 4PM to 2AM \nSaturday – 4PM to Sunday 2AM
URL:https://crypticonseattle.com/the-event/biohazard-2/
LOCATION:13th Floor
CATEGORIES:Days,Events,Friday,Saturday
ATTACH;FMTTYPE=image/webp:https://crypticonseattle.com/wp-content/uploads/2024/04/CrypticonBiohazard2024Transparent.webp
END:VEVENT
BEGIN:VEVENT
DTSTART;VALUE=DATE:20260501
DTEND;VALUE=DATE:20260504
DTSTAMP:20260423T035240
CREATED:20250403T183949Z
LAST-MODIFIED:20260301T033558Z
UID:10000308-1777593600-1777852799@crypticonseattle.com
SUMMARY:The Haunted House
DESCRIPTION:Don’t miss this Mini Haunted House sponsored by SCARE! \nFriday – 5-8pm \nSaturday – 12-3pm and 4-7pm \nSunday -12 – 4pm \nadmission – $5 \n 
URL:https://crypticonseattle.com/the-event/the-haunted-house/
LOCATION:Graveyard – Back Parkinglot
CATEGORIES:Events,Friday,Saturday,Sunday
ATTACH;FMTTYPE=image/jpeg:https://crypticonseattle.com/wp-content/uploads/2025/04/scarelogo.jpg
END:VEVENT
BEGIN:VEVENT
DTSTART;VALUE=DATE:20260501
DTEND;VALUE=DATE:20260504
DTSTAMP:20260423T035240
CREATED:20220330T234929Z
LAST-MODIFIED:20260404T174019Z
UID:10000040-1777593600-1777852799@crypticonseattle.com
SUMMARY:Grimstone Castle (VIP) 
DESCRIPTION:  \n \n  \nVIP Macabre Mortuary \nStep into a beautifully twisted fairy-tale realm where shadows shimmer and magic feels just a little dangerous. Our VIP room becomes an enchanted dark castle—with glowing lanterns\, haunted elegance\, and storybook secrets waiting in every corner. Enter if you dare\, and let the night unfold like a dark tale written just for you. \nAccess to the VIP Macabre Mortuary\, located on our 13th Floor Party Hall\, is for Crypticon Seattle Platinum VIPs and Gold VIPs ONLY. \nOVER 21 ONLY \nHOURS \nFriday: 4:00 PM – 2:00 AM \nSaturday: \n11:00 AM – 6:30 PM \n***Platinum Ticket Holders ONLY during Celebrity Meet & Greet Party: 7:00 PM – 10:00 PM*** \nPlatinum and Gold VIPs: 10:30 PM – 2:00 AM \nSunday: 11:00 AM – 3:00 PM \nPlatinum VIP Experience and Gold VIP Experience ONLY are allowed entrance into the VIP room. \nThank you
URL:https://crypticonseattle.com/the-event/vip-macabre-mortuary/
LOCATION:13th Floor
CATEGORIES:Days,Events,Friday,Saturday,Sunday
ATTACH;FMTTYPE=image/jpeg:https://crypticonseattle.com/wp-content/uploads/2026/04/Grimstone-castle.jpg
END:VEVENT
BEGIN:VEVENT
DTSTART;VALUE=DATE:20260501
DTEND;VALUE=DATE:20260504
DTSTAMP:20260423T035240
CREATED:20230503T200310Z
LAST-MODIFIED:20260301T033554Z
UID:10000126-1777593600-1777852799@crypticonseattle.com
SUMMARY:Anubis Hearse Club PNW
DESCRIPTION:  \n \nThe biggest horror event in the PNW – Crypticon Seattle – would not be complete without its iconic hearses. Ranging from the traditional to the wild\, these creepy cars have played limo to some of the most powerful names in the horror business. The coaches have been a part of the Crypticon Seattle family first starting with the early days of Rain City Hearses to the sleek more modern look of Anubis Hearse Club of today. \nDrivers of classic hearses are notoriously quirky\, friendly\, and quick to talk about their beloved coaches. So if you find yourself heading toward a weekend full of all things horror\, stop by and say hello to the happy hearse folks. They will leave a space open in the back just for you. \nFollow the Anubis Hearse Club PNW’s page at: https://www.facebook.com/profile.php?id=100086991368754&mibextid=ZbWKwL
URL:https://crypticonseattle.com/the-event/anubis-hearse-club-pnw/
LOCATION:Graveyard – Back Parkinglot
CATEGORIES:Events,Friday,Saturday,Sunday
ATTACH;FMTTYPE=image/webp:https://crypticonseattle.com/wp-content/uploads/2025/11/HearsesMobileSlider.webp
END:VEVENT
BEGIN:VEVENT
DTSTART;VALUE=DATE:20260501
DTEND;VALUE=DATE:20260504
DTSTAMP:20260423T035240
CREATED:20240207T195531Z
LAST-MODIFIED:20250926T183743Z
UID:10000151-1777593600-1777852799@crypticonseattle.com
SUMMARY:Crypticon Seattle Film Festival
DESCRIPTION:Get ready for a spine-chilling thrill ride at Crypticon Seattle Film Festival! We show the darkest\, scariest\, creepiest\, bloodiest\, and most haunting indie gems. This festival is where the underground meets the eerie\, the violent clashes with the strange\, and the macabre takes center stage! \nJoin our vibrant community of horror aficionados and film buffs as we celebrate our love for all things dark\, weird\, and unusual. With an enthusiastic audience\, each screening promises an electrifying atmosphere that keeps people returning for more year after year. \nAt Crypticon Seattle\, we embrace horror in all forms – whether high art\, high camp\, or something in between. So buckle up and prepare for a wild ride through horror films. \nAwards are handed to winners of: \nBest Northwest Film \nBest Short Film \nBest Feature Film
URL:https://crypticonseattle.com/the-event/crypticon-seattle-film-festival/
LOCATION:Evergreen 1&2
CATEGORIES:Contest,Events,Friday,Saturday,Sunday
ATTACH;FMTTYPE=image/jpeg:https://crypticonseattle.com/wp-content/uploads/2024/02/film_room.jpg
END:VEVENT
BEGIN:VEVENT
DTSTART;VALUE=DATE:20260501
DTEND;VALUE=DATE:20260504
DTSTAMP:20260423T035240
CREATED:20250102T234956Z
LAST-MODIFIED:20260315T010046Z
UID:10000144-1777593600-1777852799@crypticonseattle.com
SUMMARY:Northwest Possessed Slider Team
DESCRIPTION:Seattle’s very own slider team\, The NORTHWEST POSSESSED\, are returning\nto Crypticon and this time they are bringing MORE slider friends from\nall around the haunt industry. Get ready to witness… \n              SLIDERS ASSEMBLE 2: Electric Boogaloo \n                                         The largest gathering of haunt sliders in the Pacific Northwest! \nWe will have performers representing haunts such as Queen Mary’s Dark\nHarbor\, Knott’s Scary Farm\, Silverwood theme park\, Cinema of Horrors\,\nRutledge Family Farm and Wild Waves’ Fright Fest to name just a few. \nCome join them in the Hearse Club parking lot as these amazing\nperformers put on a show of this legendary scare tactic for your\nenjoyment. \nhttps://instagram.com/northwest_possessed?igshid=YmMyMTA2M2Y= \nCrypticon Seattle ticket required\nSat. Schedule 1pm\, 4pm\, 6:30pm \nSun. Schedule 1pm and 3pm \nGraveyard -Back Parking Lot – east
URL:https://crypticonseattle.com/the-event/northwest-possessed-slider-team-3/
LOCATION:Graveyard – Back Parkinglot
CATEGORIES:Events,Friday,Saturday,Sunday
ATTACH;FMTTYPE=image/webp:https://crypticonseattle.com/wp-content/uploads/2025/01/Sliders2025Picture.webp
END:VEVENT
BEGIN:VEVENT
DTSTART;VALUE=DATE:20260501
DTEND;VALUE=DATE:20260504
DTSTAMP:20260423T035240
CREATED:20250227T023254Z
LAST-MODIFIED:20260303T195630Z
UID:10000277-1777593600-1777852799@crypticonseattle.com
SUMMARY:Seattle Thrillers
DESCRIPTION:  \nSeattle Thrillers would love to bring an electrifying\, interactive\, and fun experience to Crypticon Seattle by performing twice on Saturday and twice on Sunday\, culminating in an epic closing performance on Sunday. Our goal is to immerse attendees in a thrilling zombie experience that enhances vendor engagement\, entertains guests\, and builds unforgettable memories. \nhttps://seattlethrillers.org/ \nCrypticon Seattle ticket required \nEvent Schedule\nMain Lobby – Schedule \nFriday – 3:00pm \n Sun – 3:30pm \nGraveyard – Back Parking Lot – \nSaturday – 1:30pm & 5:30pm \nSunday – 12:30 pm \n  \n\n  \n 
URL:https://crypticonseattle.com/the-event/seattle-thrillers/
LOCATION:Back Parkinglot – East
CATEGORIES:Friday,Saturday,Sunday
ATTACH;FMTTYPE=image/jpeg:https://crypticonseattle.com/wp-content/uploads/2025/02/CrypticonPic-1.jpg
END:VEVENT
BEGIN:VEVENT
DTSTART;VALUE=DATE:20260501
DTEND;VALUE=DATE:20260504
DTSTAMP:20260423T035240
CREATED:20250404T002519Z
LAST-MODIFIED:20260313T231825Z
UID:10000309-1777593600-1777852799@crypticonseattle.com
SUMMARY:Pacific Northwest Ghostbusters and ECTO 360 - PKE Sweep
DESCRIPTION:The Pacific Northwest Ghostbusters and the ECTO-360 are on site and on the case at Crypticon Seattle!\nthe largest PKE surge since the Manhattan Interdimensional cross-rip of 1984! \nJoin us as we provide equipment demonstrations\, a “know your ghost” training and potentially earn a certificate! \nWord on the street is\, there may be a few spooks and spectres about so we will be there to clean up the hotel.
URL:https://crypticonseattle.com/the-event/pacific-northwest-ghostbusters-and-ecto-360-pke-sweep/
LOCATION:Graveyard – Back Parkinglot
CATEGORIES:Events,Friday,Saturday,Sunday
ATTACH;FMTTYPE=image/jpeg:https://crypticonseattle.com/wp-content/uploads/2025/04/PNWGB_banner.jpg
END:VEVENT
BEGIN:VEVENT
DTSTART;VALUE=DATE:20260501
DTEND;VALUE=DATE:20260504
DTSTAMP:20260423T035240
CREATED:20250419T031926Z
LAST-MODIFIED:20260322T192559Z
UID:10000326-1777593600-1777852799@crypticonseattle.com
SUMMARY:Krampus Bremerton
DESCRIPTION:  \n \nMembers of Krampus Bremerton will be bringing the ultimate Krampus Vibe your way to Crypticon Seattle 2026! \nCelebrating the Bavarian tradition\, Krampus Bremerton brings Yuletide fun to the Kitsap Peninsula and the surrounding Puget Sound area.  Krampus is a centuries old tradition\, pre-dating St. Nicholas\, inspiring people to be nice by deterring naughty behavior.  Krampus is a horned\, half-goat creature that traditionally emerges on December 5th every year.  Taking queues from Perchten tradition\, Krampus Bremerton makes appearances throughout the Yuletide season. With a formal festival started in 2022\, Krampus and his friends appear in downtown Bremerton on the first Saturday of every December\, for Krampusnacht Bremerton. \nKrampus Bremerton welcomes everyone to participate!  Whether you’re interested in joining our events as a business\, dressing up in your own costume\, attending an event\, or wanting more information…you’ll find all of the resources here to help guide you to the right place. \n  \nhttps://www.facebook.com/profile.php?id=100089252764909 \nhttps://krampusbremerton.com \nhttps://www.youtube.com/@KrampusBremerton \nhttps://www.youtube.com/watch?v=AtQJpEEjAL4&t=1s \n  \nCheck out our merch and booth with Stuck & Pressed at Crypticon Seattle: https://www.stuckandpressed.com/ \n  \n  \n 
URL:https://crypticonseattle.com/the-event/krampus-bremerton/
LOCATION:Graveyard – Back Parkinglot
CATEGORIES:Events,Friday,Saturday,Sunday
ATTACH;FMTTYPE=image/jpeg:https://crypticonseattle.com/wp-content/uploads/2025/04/Krampus-2.jpg
END:VEVENT
BEGIN:VEVENT
DTSTART;VALUE=DATE:20260501
DTEND;VALUE=DATE:20260504
DTSTAMP:20260423T035240
CREATED:20260224T025341Z
LAST-MODIFIED:20260224T185451Z
UID:10000338-1777593600-1777852799@crypticonseattle.com
SUMMARY:3D Chromadepth Canvas Painting Demo by Dutch
DESCRIPTION:Crypticon Seattle invites you to enjoy the airbrush process of creating 3D Blacklight art. Join Dutch on Friday and on Sunday for a live painting demonstration. This art medium is used all over the world to create immersive\, almost holographic scenes that you visually fall into once you dawn the 3D glasses\, both pieces will be available to purchase once completed to add to your personal art collection. \nMay 1st 3:30 pm – 6:00 pm \nMay 3rd 10:30 pm – 1:30 pm
URL:https://crypticonseattle.com/the-event/3d-chromadepth-canvas-painting-demo-by-dutch/
LOCATION:Northwest Ballroom 3
CATEGORIES:Demo,Friday,Sunday
ATTACH;FMTTYPE=image/jpeg:https://crypticonseattle.com/wp-content/uploads/2026/02/3D-by-dutch.jpg
END:VEVENT
BEGIN:VEVENT
DTSTART;VALUE=DATE:20260501
DTEND;VALUE=DATE:20260504
DTSTAMP:20260423T035240
CREATED:20260322T201038Z
LAST-MODIFIED:20260420T200340Z
UID:10000345-1777593600-1777852799@crypticonseattle.com
SUMMARY:Face Painting ContoursFx
DESCRIPTION:Professional Face and Body Painting by the family of ContoursFx. Dutch Bihary\, along with Arreah\, Zayda and Brecky will be there to help you scare! Prices range depending on size and detail which can be anything from a simple cheek art to a partial body painting. Body painting is by appointment only. Glitz and glam or horror and gore. You name it we got it! \nSee you at Crypticon-Seattle in the hallway near the coffee shop. \nHaving serviced both private events and commercial film shoots for companies like Microsoft\, Facebook\, and Amazon–as well as having amplified the joyous atmosphere of family parties and festivals–ContoursFx provides top of the line face painting and body art services for every occasion \nPay at event \nCost start at $8 \nPrices range depending on size and detail
URL:https://crypticonseattle.com/the-event/face-painting-contoursfx/
LOCATION:GraveYard Row
CATEGORIES:Events,Friday,Saturday,Sunday
ATTACH;FMTTYPE=image/webp:https://crypticonseattle.com/wp-content/uploads/2026/03/ContoursFx22-mar-26.webp
END:VEVENT
BEGIN:VEVENT
DTSTART;VALUE=DATE:20260502
DTEND;VALUE=DATE:20260505
DTSTAMP:20260423T035240
CREATED:20250418T204407Z
LAST-MODIFIED:20260315T010910Z
UID:10000325-1777680000-1777939199@crypticonseattle.com
SUMMARY:Saphira Velociraptor at Crypticon Seattle 2026
DESCRIPTION:She took over Crypticon Seattle in 2019 ~ Saphira Velociraptor! With her first ROAR she stole out hearts and we are always thankful with her continued run through fun she brings to Crypticon Seattle! Saphira will love to startle a crowd\, and she will be doing that throughout the Weekend so keep your eyes peeled ~ Hey she’s a Velociraptor she doesn’t follow schedules or directions….she doesn’t read she’s a dinosaur! You won’t know when or where BUT when you start hearing that rumble and then that roar start to pivot your head because she will be bounding in the room! Take Photos ~ Have fun and hang out with Saphira! Please jump on over to her FB page and send a Crypticon Seattle FB “Like” ~ Follow on her Very active Instagram and Check out YouTube!\nhttps://www.facebook.com/saphira.velociraptor\nhttps://www.instagram.com/saphiravelociraptor\nhttps://www.youtube.com/@SaphiraVelocirapto \n 
URL:https://crypticonseattle.com/the-event/photo-op-saphira-velociraptor-at-crypticon-seattle-2025-photo-op/
LOCATION:Graveyard – Back Parkinglot
CATEGORIES:Events,Friday,Saturday,Sunday
ATTACH;FMTTYPE=image/jpeg:https://crypticonseattle.com/wp-content/uploads/2025/03/Saphira.jpg
END:VEVENT
BEGIN:VEVENT
DTSTART;VALUE=DATE:20260502
DTEND;VALUE=DATE:20260504
DTSTAMP:20260423T035240
CREATED:20260224T011029Z
LAST-MODIFIED:20260420T200636Z
UID:10000335-1777680000-1777852799@crypticonseattle.com
SUMMARY:Paint and Take Bleach T-Shirt Class - by Zayda
DESCRIPTION:Bleach T-Shirt Class \nTry it yourself! Come create your own custom bleach T-shirts! Learn how contrast\, timing\, and technique bring designs to life\, with assistance from Zayda Bihary. She will bring all supplies needed for making your own artwork. Learn about the different types of bleach\, using hard and sticky stencils and so much more. Come chill with her\, bring your lunch and drinks\, and have some fun doing art and listening to some music. \nPay at event \nClass cost: $20 \nPreregister and pay go to https://www.contoursfx.com/crypticon \nSaturday 4 pm – 7 pm \nSunday 1:30 pm – 3:30 pm
URL:https://crypticonseattle.com/the-event/paint-and-take-bleach-t-shirt-by-zayda/
LOCATION:Cascade 7&8
CATEGORIES:Class,Saturday,Sunday
ATTACH;FMTTYPE=image/jpeg:https://crypticonseattle.com/wp-content/uploads/2026/02/zayda-class.jpg
END:VEVENT
BEGIN:VEVENT
DTSTART;TZID=America/Los_Angeles:20260503T100000
DTEND;TZID=America/Los_Angeles:20260503T113000
DTSTAMP:20260423T035240
CREATED:20170407T043607Z
LAST-MODIFIED:20260413T234626Z
UID:10000007-1777802400-1777807800@crypticonseattle.com
SUMMARY:Sunday VIP Brunch
DESCRIPTION:  \nSUNDAY VIP BRUNCH \nStart your Sunday in true VIP style with a hosted brunch where you can relax\, mingle\, and enjoy a fun-filled morning with fellow fans and our honored celebrity guests. This exclusive experience is available ONLY to Platinum and Gold VIP ticket holders. \nThis year\, we’re excited to feature a special round of live horror trivia presented by Fright or Wrong Horror Trivia! Test your genre knowledge\, compete for bragging rights\, and enjoy some friendly scares while you dine. Whether you’re a casual fan or a die-hard horror expert\, this interactive trivia session will add an extra layer of excitement to your morning. \nSip\, savor\, socialize—and enjoy a unique opportunity to share a meal with Crypticon Seattle celebrities. \nThis event is ONLY open to VIP ticket holders and our Celebrity Guests. VIP tickets are limited—secure yours today! \nPurchase your VIP tickets today!  
URL:https://crypticonseattle.com/the-event/sunday-vip-brunch-jet-city-improv/
LOCATION:MAXI’S
CATEGORIES:Events,Sunday
ATTACH;FMTTYPE=image/jpeg:https://crypticonseattle.com/wp-content/uploads/2017/04/339286561_232012735991131_4464704828199783067_n.jpg
END:VEVENT
BEGIN:VEVENT
DTSTART;TZID=America/Los_Angeles:20260503T120000
DTEND;TZID=America/Los_Angeles:20260503T130000
DTSTAMP:20260423T035240
CREATED:20260327T171617Z
LAST-MODIFIED:20260423T015527Z
UID:10000352-1777809600-1777813200@crypticonseattle.com
SUMMARY:Terrifier Interview--David Howard Thornton\, Elliott Fullam\, and Amelie McLain
DESCRIPTION:  \n \nTony Kay interviews the stars of the Terrifier series.
URL:https://crypticonseattle.com/the-event/terrifier-david-howard-thornton-lauren-lavera-elliott-fullam-interview/
LOCATION:Evergreen 3&4
CATEGORIES:Interview,Sunday
ATTACH;FMTTYPE=image/webp:https://crypticonseattle.com/wp-content/uploads/2026/03/Social-Only-Terrifier-Trio-V2.webp
END:VEVENT
BEGIN:VEVENT
DTSTART;TZID=America/Los_Angeles:20260503T130000
DTEND;TZID=America/Los_Angeles:20260503T140000
DTSTAMP:20260423T035240
CREATED:20260417T173210Z
LAST-MODIFIED:20260417T185124Z
UID:10000361-1777813200-1777816800@crypticonseattle.com
SUMMARY:Nivek Ogre Interview
DESCRIPTION:Ogre is known for his pioneering work in the industrial music scene with his band Skinny Puppy\, his solo project ohGr\, as well as work with Ministry\, Revolting Cocks\, KMFMDM\, and Pigface. Ogre also played Pavi Largo in Repo! The Genetic Opera\, and the incubus in The Demonatrix.
URL:https://crypticonseattle.com/the-event/nivek-ogre-interview/
LOCATION:Evergreen 3&4
CATEGORIES:Interview,Sunday
ATTACH;FMTTYPE=image/webp:https://crypticonseattle.com/wp-content/uploads/2026/04/2026-Guest-Banner-OGRE.webp
END:VEVENT
BEGIN:VEVENT
DTSTART;TZID=America/Los_Angeles:20260503T133000
DTEND;TZID=America/Los_Angeles:20260503T153000
DTSTAMP:20260423T035240
CREATED:20260224T194737Z
LAST-MODIFIED:20260320T220638Z
UID:10000340-1777815000-1777822200@crypticonseattle.com
SUMMARY:A Most Distressing Costume Workshop By Rob Buchta
DESCRIPTION:  \n \nJoin FX Artist Rob Buchta for a demonstration and application of distressing for costume and cosplay. We’ll explore techniques for staining\, controlled ripping\, burning\, and tips for keeping your distressing from stressing you \nBring your own costume or clothing\, and we’ll have some clothing to demonstrate the applications and techniques for distress. Bonus- your pre-registration for the class will include a special gift for your crafting and distressing kit.\nEmail info@robertbuchta.com to register for the class. \nRobert Buchta – Home \nClass Cost $15 \nPayable by PayPal\, Cash app or Venmo
URL:https://crypticonseattle.com/the-event/a-most-distressing-workshop-by-rob-buchta/
LOCATION:Cascade 9
CATEGORIES:Class,Events,Sunday
ATTACH;FMTTYPE=image/jpeg:https://crypticonseattle.com/wp-content/uploads/2026/02/20251018_1946171.jpg
END:VEVENT
BEGIN:VEVENT
DTSTART;TZID=America/Los_Angeles:20260503T140000
DTEND;TZID=America/Los_Angeles:20260503T150000
DTSTAMP:20260423T035240
CREATED:20260417T174556Z
LAST-MODIFIED:20260417T185213Z
UID:10000362-1777816800-1777820400@crypticonseattle.com
SUMMARY:Nathan Baesel Interview
DESCRIPTION:YouTuber Gory B. Movie will be interviewing the star of Behind the Mask: The Rise of Leslie Vernon and it’s long awaiting sequel.
URL:https://crypticonseattle.com/the-event/nathan-baesel-interview/
LOCATION:Evergreen 3&4
CATEGORIES:Interview,Sunday
ATTACH;FMTTYPE=image/webp:https://crypticonseattle.com/wp-content/uploads/2026/04/2026-Guest-Banner-BAESEL.webp
END:VEVENT
BEGIN:VEVENT
DTSTART;TZID=America/Los_Angeles:20260503T140000
DTEND;TZID=America/Los_Angeles:20260503T153000
DTSTAMP:20260423T035240
CREATED:20260405T023326Z
LAST-MODIFIED:20260415T011248Z
UID:10000357-1777816800-1777822200@crypticonseattle.com
SUMMARY:Dutches Art Demo
DESCRIPTION:Dutch is best known for his appearance as a contestant on the first season of Skin Wars\, a competition elimination reality TV series\, and its subsequent spin off series “Fresh Paint” where he was a returning celebrity mentor.
URL:https://crypticonseattle.com/the-event/dutches-demo/
LOCATION:Northwest Ballroom 3
CATEGORIES:Demo,Events,Sunday
ATTACH;FMTTYPE=image/jpeg:https://crypticonseattle.com/wp-content/uploads/2026/04/Dutch-2.jpg
END:VEVENT
BEGIN:VEVENT
DTSTART;TZID=America/Los_Angeles:20260503T150000
DTEND;TZID=America/Los_Angeles:20260503T160000
DTSTAMP:20260423T035240
CREATED:20260327T171826Z
LAST-MODIFIED:20260417T184942Z
UID:10000353-1777820400-1777824000@crypticonseattle.com
SUMMARY:Yoson An Interview
DESCRIPTION:  \n \nKim Douthit interviews Yoson An the killer from the smash hit slasher Heart Eyes \n 
URL:https://crypticonseattle.com/the-event/heart-eyes-josh-ruben-yoson-an-interview/
LOCATION:Cascade 10
CATEGORIES:Interview,Sunday
ATTACH;FMTTYPE=image/webp:https://crypticonseattle.com/wp-content/uploads/2026/02/2026-Guest-Banner-yosan-AN.webp
END:VEVENT
BEGIN:VEVENT
DTSTART;TZID=America/Los_Angeles:20260503T150000
DTEND;TZID=America/Los_Angeles:20260503T160000
DTSTAMP:20260423T035240
CREATED:20260327T172216Z
LAST-MODIFIED:20260417T173804Z
UID:10000354-1777820400-1777824000@crypticonseattle.com
SUMMARY:Brett Wagner Interview
DESCRIPTION:Langley West interviews actor and notorious bad ass Brett Wagner whoes credits include The Texas Chainsaw Massacre (2003)\, The Crazies\, and John Dies at the End.
URL:https://crypticonseattle.com/the-event/brett-wagner-interview/
LOCATION:Evergreen 3&4
CATEGORIES:Interview,Sunday
ATTACH;FMTTYPE=image/webp:https://crypticonseattle.com/wp-content/uploads/2026/01/2026-Guest-Banner-WAGNER.webp
END:VEVENT
BEGIN:VEVENT
DTSTART;TZID=America/Los_Angeles:20260503T153000
DTEND;TZID=America/Los_Angeles:20260503T160000
DTSTAMP:20260423T035240
CREATED:20260405T025008Z
LAST-MODIFIED:20260405T030834Z
UID:10000358-1777822200-1777824000@crypticonseattle.com
SUMMARY:Dutch's art action
DESCRIPTION:Only at Crypticon Seattle will you be able to watch Dutch do a Demo and purchase that Art\, Only at Crypticon Seattle.
URL:https://crypticonseattle.com/the-event/dutchs-art-action/
LOCATION:Northwest Ballroom 3
CATEGORIES:Events,Sunday
ATTACH;FMTTYPE=image/jpeg:https://crypticonseattle.com/wp-content/uploads/2026/04/Dutch-3.jpg
END:VEVENT
END:VCALENDAR