BEGIN:VCALENDAR
VERSION:2.0
PRODID:-//Crypticon Seattle - ECPv6.15.0//NONSGML v1.0//EN
CALSCALE:GREGORIAN
METHOD:PUBLISH
X-ORIGINAL-URL:https://crypticonseattle.com
X-WR-CALDESC:Events for Crypticon Seattle
REFRESH-INTERVAL;VALUE=DURATION:PT1H
X-Robots-Tag:noindex
X-PUBLISHED-TTL:PT1H
BEGIN:VTIMEZONE
TZID:America/Los_Angeles
BEGIN:DAYLIGHT
TZOFFSETFROM:-0800
TZOFFSETTO:-0700
TZNAME:PDT
DTSTART:20260308T100000
END:DAYLIGHT
BEGIN:STANDARD
TZOFFSETFROM:-0700
TZOFFSETTO:-0800
TZNAME:PST
DTSTART:20261101T090000
END:STANDARD
END:VTIMEZONE
BEGIN:VEVENT
DTSTART;VALUE=DATE:20260501
DTEND;VALUE=DATE:20260503
DTSTAMP:20260423T045920
CREATED:20220401T173917Z
LAST-MODIFIED:20260409T173308Z
UID:10000152-1777593600-1777766399@crypticonseattle.com
SUMMARY:Wicked Harmonies
DESCRIPTION:Wicked Harmonies\nWhere the cursed take center stage and the melodies bite back. \nEnter into a fairy tale gone deliciously wrong at our Dark Villain Karaoke Party. The room becomes a moody\, enchanted lair where wicked charm rules the night. Claim the mic\, channel your inner villain\, and belt out your most dramatic anthems as the shadows cheer you on. Come sing\, scheme\, and shine on the dark side of the story. \nPARTY SCHEDULE\nFriday – 4:00 PM to 2:00 AM \nSaturday – 4:00 PM to 2:00 AM (Sunday) \nConvention badge required \nOVER 21 ONLY \n 
URL:https://crypticonseattle.com/the-event/scary-okee/
LOCATION:13th Floor
CATEGORIES:Events,Friday,Saturday
ATTACH;FMTTYPE=image/webp:https://crypticonseattle.com/wp-content/uploads/2025/12/Wicked_Harmonies_2025.webp
END:VEVENT
END:VCALENDAR